BEGIN:VCALENDAR
VERSION:2.0
PRODID:-//Cypress - The Committee to Promote Respect in Schools - ECPv6.15.17//NONSGML v1.0//EN
CALSCALE:GREGORIAN
METHOD:PUBLISH
X-WR-CALNAME:Cypress - The Committee to Promote Respect in Schools
X-ORIGINAL-URL:https://cypressevansville.org
X-WR-CALDESC:Events for Cypress - The Committee to Promote Respect in Schools
REFRESH-INTERVAL;VALUE=DURATION:PT1H
X-Robots-Tag:noindex
X-PUBLISHED-TTL:PT1H
BEGIN:VTIMEZONE
TZID:UTC
BEGIN:STANDARD
TZOFFSETFROM:+0000
TZOFFSETTO:+0000
TZNAME:UTC
DTSTART:20240101T000000
END:STANDARD
END:VTIMEZONE
BEGIN:VEVENT
DTSTART;TZID=UTC:20250123T190000
DTEND;TZID=UTC:20250123T190000
DTSTAMP:20260422T234612
CREATED:20250106T205502Z
LAST-MODIFIED:20250106T205524Z
UID:1868-1737658800-1737658800@cypressevansville.org
SUMMARY:Judy Cohen to present as USI Edward D. and Regina Rechnic Holocaust Series speaker
DESCRIPTION:The University of Southern Indiana will host the third annual Edward D. and Regina Rechnic Holocaust Series at 7 p.m. Thursday\, January 23\, 2025\, in the Performance Center\, located on the USI campus. The 2025 speaker is Judy Cohen\, former Chief Acquisitions Curator at the U.S. Holocaust Memorial Museum. The presentation is open to the public at no charge. \nCohen’s presentation\, “My Dearest One: A Wife’s Final Goodbye\,” will explore how newly discovered artifacts and documents deepen understanding of the Holocaust. It will highlight a one-of-a-kind letter written at Auschwitz moments before a woman was murdered\, along with other unique archival materials that illuminate the experiences of her husband and child. \nAs the former Chief Acquisitions Curator at the U.S. Holocaust Memorial Museum\, Cohen was instrumental in preserving Holocaust history through the Museum’s extensive collections. A graduate of Harvard University with a master’s degree from Brandeis\, she curated numerous web exhibits and authored works that examined distinct facets of Holocaust documentation\, including Memento Mori: Photographs from the Grave\, Three Approaches to Exploring the Höcker Album and Jewish Ghetto Photographers. Her research brought critical insight into the lives captured by Jewish photographers and the personal artifacts that reflected life in Europe before and during the Holocaust. \nCohen’s work has been crucial in helping descendants of Holocaust survivors preserve their family histories. Her dedication ensured these artifacts remained safeguarded and accessible\, enriching public understanding of the Holocaust through deeply personal and often previously unseen materials. \nThis series is made possible by the USI Foundation through the Edward D. and Regina Rechnic Speaker Series Endowment. The endowment was established by the late Irene C. Rechnic and honors her parents’ struggle to survive the Auschwitz-Birkenau concentration camp during WWII\, where 960\,000 Jews were executed. \nFor questions on the presentation\, contact the College of Liberal Arts at 812-464-1855.
URL:https://cypressevansville.org/event/judy-cohen-to-present-as-usi-edward-d-and-regina-rechnic-holocaust-series-speaker/
LOCATION:University of Southern Indiana\, 8600 University Blvd\, Evansville\, IN\, 47712
END:VEVENT
END:VCALENDAR