BEGIN:VCALENDAR
VERSION:2.0
PRODID:-//Cypress - The Committee to Promote Respect in Schools - ECPv6.15.17//NONSGML v1.0//EN
CALSCALE:GREGORIAN
METHOD:PUBLISH
X-ORIGINAL-URL:https://cypressevansville.org
X-WR-CALDESC:Events for Cypress - The Committee to Promote Respect in Schools
REFRESH-INTERVAL;VALUE=DURATION:PT1H
X-Robots-Tag:noindex
X-PUBLISHED-TTL:PT1H
BEGIN:VTIMEZONE
TZID:UTC
BEGIN:STANDARD
TZOFFSETFROM:+0000
TZOFFSETTO:+0000
TZNAME:UTC
DTSTART:20240101T000000
END:STANDARD
END:VTIMEZONE
BEGIN:VEVENT
DTSTART;TZID=UTC:20250416T190000
DTEND;TZID=UTC:20250416T190000
DTSTAMP:20260423T035126
CREATED:20250106T210114Z
LAST-MODIFIED:20250106T211055Z
UID:1871-1744830000-1744830000@cypressevansville.org
SUMMARY:Author Ralph Shayne selected for EVPL SPEAK Lecture Series
DESCRIPTION:EVPL\, CYPRESS\, and the Rechnic Foundation are partnering to bring Ralph Shayne to Evansville for a series of public and educational presentations. His graphic novel\, Hour of Need\, pays tribute to the heroes who saved the Danish Jews during the Holocaust\, and reminds readers of how humanity can triumph in the darkest hours. \nShayne will speak at the Victory Theatre on Wednesday\, April 16\, 2025 at 7 pm. This event is free and open to the public. \nThe authors selected for SPEAK 2025 encourage us to reflect on our individual and shared pasts. Through their works\, these authors address themes of identity\, history\, and personal or collective struggle. Their stories encourage us to connect through past human experiences and inspire us to build a more thoughtful future. \n 
URL:https://cypressevansville.org/event/author-ralph-shayne-selected-for-evpl-speak-lecture-series/
LOCATION:Victory Theatre\, 600 Main St\, Evansville\, IN\, 47708\, United States
END:VEVENT
END:VCALENDAR