BEGIN:VCALENDAR
VERSION:2.0
PRODID:-//Cypress - The Committee to Promote Respect in Schools - ECPv6.15.17//NONSGML v1.0//EN
CALSCALE:GREGORIAN
METHOD:PUBLISH
X-ORIGINAL-URL:https://cypressevansville.org
X-WR-CALDESC:Events for Cypress - The Committee to Promote Respect in Schools
REFRESH-INTERVAL;VALUE=DURATION:PT1H
X-Robots-Tag:noindex
X-PUBLISHED-TTL:PT1H
BEGIN:VTIMEZONE
TZID:UTC
BEGIN:STANDARD
TZOFFSETFROM:+0000
TZOFFSETTO:+0000
TZNAME:UTC
DTSTART:20240101T000000
END:STANDARD
END:VTIMEZONE
BEGIN:VEVENT
DTSTART;VALUE=DATE:20250602
DTEND;VALUE=DATE:20250607
DTSTAMP:20260423T080321
CREATED:20250224T031953Z
LAST-MODIFIED:20250224T032606Z
UID:1887-1748822400-1749254399@cypressevansville.org
SUMMARY:USI Hosting Free Summer Seminar for Educators
DESCRIPTION:The University of Southern Indiana is offering an exciting summer seminar through The Olga Lengyel Institute (TOLI)\, Cultural Legacies of the Holocaust: Race and Human Rights from Nazi Germany to Today. This specialized seminar is offered at no cost to educators and will take place June 2-6\, 2025.\n\nThe seminar is designed for teachers in the region who seek to deepen their knowledge\, confidence\, and skills for teaching challenging content related to Holocaust and Human Rights issues. The seminar’s content is processed through inquiry-based reflective writing. Additionally\, highlights include accomplished facilitators\, captivating guest speakers\, and compelling field experiences including visits to the Evansville African American Museum\, the Rechnic Holocaust Exhibit at the Wartime Museum\, and Temple Adath B’nai Israel.\n\nEducators will be re-energized with quality resources and the opportunity to develop action plans for their own classrooms\, which they can discuss and refine with fellow participants. CEUs are available upon request for a small fee\, with the opportunity for graduate credits.\n\nAn informational flyer is attached here.\n\nPlease visit TOLI’s website for more information and the application link at https://www.toli.us/regional-program/indiana/ \n\nDeadline to apply is April 1\, 2025.\n\nPlease feel free to share this with any fellow educators who you feel may be interested in attending.\n\nDo not hesitate to contact the seminar facilitators should you have any questions:\nAlexandra Natoli (World Languages and Cultures) anatoli@usi.edu\nOana Popescu-Sandu (English) opopescusa@usi.edu\nTodd Schroer (Criminal Justice) tschroer@usi.edu\n\nTOLI Indiana flyer
URL:https://cypressevansville.org/event/usi-hosting-free-summer-seminar-for-educators/
LOCATION:University of Southern Indiana\, 8600 University Blvd\, Evansville\, IN\, 47712
END:VEVENT
END:VCALENDAR